BEGIN:VCALENDAR
VERSION:2.0
PRODID:-//Nature Center at Shaker Lakes - ECPv6.15.20//NONSGML v1.0//EN
CALSCALE:GREGORIAN
METHOD:PUBLISH
X-ORIGINAL-URL:https://shakerlakes.org
X-WR-CALDESC:Events for Nature Center at Shaker Lakes
REFRESH-INTERVAL;VALUE=DURATION:PT1H
X-Robots-Tag:noindex
X-PUBLISHED-TTL:PT1H
BEGIN:VTIMEZONE
TZID:America/New_York
BEGIN:DAYLIGHT
TZOFFSETFROM:-0500
TZOFFSETTO:-0400
TZNAME:EDT
DTSTART:20250309T070000
END:DAYLIGHT
BEGIN:STANDARD
TZOFFSETFROM:-0400
TZOFFSETTO:-0500
TZNAME:EST
DTSTART:20251102T060000
END:STANDARD
BEGIN:DAYLIGHT
TZOFFSETFROM:-0500
TZOFFSETTO:-0400
TZNAME:EDT
DTSTART:20260308T070000
END:DAYLIGHT
BEGIN:STANDARD
TZOFFSETFROM:-0400
TZOFFSETTO:-0500
TZNAME:EST
DTSTART:20261101T060000
END:STANDARD
BEGIN:DAYLIGHT
TZOFFSETFROM:-0500
TZOFFSETTO:-0400
TZNAME:EDT
DTSTART:20270314T070000
END:DAYLIGHT
BEGIN:STANDARD
TZOFFSETFROM:-0400
TZOFFSETTO:-0500
TZNAME:EST
DTSTART:20271107T060000
END:STANDARD
END:VTIMEZONE
BEGIN:VEVENT
DTSTART;TZID=America/New_York:20260110T130000
DTEND;TZID=America/New_York:20260110T150000
DTSTAMP:20260424T154931
CREATED:20260107T191724Z
LAST-MODIFIED:20260107T191724Z
UID:10000747-1768050000-1768057200@shakerlakes.org
SUMMARY:Winter Seed Sowing
DESCRIPTION:Winter Seed Sowing \nSaturday\, January 10 | 1-3PM\nStarting your garden in the winter can bring plenty of benefits. An excellent way to kick off this green garden initiative is by sowing native seeds in January and February. The seed sowing workshop will equip you with the knowledge and skills needed to sow seeds effectively. Jumpstart your winter garden to enjoy a lush\, native landscape come spring. No prior experience necessary. Great for all ages! Registration required. $8 per person. \nREGISTER: https://givebutter.com/winter-seed-sowing-1-10-26 
URL:https://shakerlakes.org/event/winter-seed-sowing/
LOCATION:Nature Center at Shaker Lakes\, 2600 South Park Blvd.\, Cleveland\, Ohio\, 44120
CATEGORIES:Environmental Exploration
ATTACH;FMTTYPE=image/png:https://shakerlakes.org/wp-content/uploads/2023/12/Seed-Sowing-Workshop.png
ORGANIZER;CN="Nature Center at Shaker Lakes":MAILTO:naturecenter@shakerlakes.org
END:VEVENT
BEGIN:VEVENT
DTSTART;TZID=America/New_York:20260111T080000
DTEND;TZID=America/New_York:20260111T093000
DTSTAMP:20260424T154931
CREATED:20260105T182213Z
LAST-MODIFIED:20260105T182213Z
UID:10000743-1768118400-1768123800@shakerlakes.org
SUMMARY:Guided Bird Walks
DESCRIPTION:ONGOING | Select Sundays 8-9:30 AM | Nature Center \nSunday\, January 11 and 25* \nSunday\, February 1 and 8* \nJoin a guided walk through the Shaker Parklands looking and listening for birds. The first walk of each month begins on our ADA accessible boardwalk and moves to dirt trails throughout the Parklands. For all hikes\, meet in the Nature Center parking lot. Binoculars are available to borrow. Snow or shine\, though the walks will be canceled in the event of severe storms. \n*The second walk of each month is fully accessible and includes an ASL interpreter. \nFree. Donations welcome! Registration required. https://www.shakerlakes.org/birding-programs/ \nREGISTER: \nJanuary 11 | https://givebutter.com/bird-walk-1-11-26\nJanuary 25 | https://givebutter.com/bird-walk-1-25-26\nFebruary 1 | https://givebutter.com/bird-walk-2-1-26\nFebruary 8 | https://givebutter.com/bird-walk-2-8-26 
URL:https://shakerlakes.org/event/guided-bird-walks-8/
LOCATION:Nature Center at Shaker Lakes\, 2600 South Park Blvd.\, Cleveland\, Ohio\, 44120
CATEGORIES:Birding,Environmental Exploration
ATTACH;FMTTYPE=image/jpeg:https://shakerlakes.org/wp-content/uploads/2026/01/guided-bird-walk-hawk.jpg
ORGANIZER;CN="Nature Center at Shaker Lakes":MAILTO:naturecenter@shakerlakes.org
END:VEVENT
BEGIN:VEVENT
DTSTART;TZID=America/New_York:20260117T100000
DTEND;TZID=America/New_York:20260117T120000
DTSTAMP:20260424T154931
CREATED:20251204T153840Z
LAST-MODIFIED:20251219T161749Z
UID:10000739-1768644000-1768651200@shakerlakes.org
SUMMARY:Immersive MLK Experience: Equity in Environmentalism
DESCRIPTION:Immersive MLK Experience: Equity in Environmentalism\nSponsored by ServeOHIO \nSaturday\, January 17 | Hike: 10-11 AM\, Lecture: 11 AM-12 PM\nJoin the Nature Center as we celebrate the legacy of Dr. Martin Luther King Jr. and learn about the importance of connecting people of all backgrounds through meaningful\, restorative action in nature while centering racial equity in our efforts. Experience the beauty of our grounds in winter on a guided hike with local GirlTREK member\, Jo Rattiliff\, who will highlight the mental and physical health benefits of outdoor activity year-round. Afterwards\, enjoy an informative lecture from Yvonka Hall\, executive director of the Northeast Ohio Black Health Coalition\, on environmental justice. \nAttendees return a week later on January 27\, joining our Natural Resources team to participate in a seed processing workshop. Learn about the value of native plants and how to process native seeds. This helps replenish our Native Seed Library\, which supports local native gardening efforts by reducing the cost of entry. Registration required. Free. \nRegistration: \nHike & Lecture: https://givebutter.com/immersive-mlk-experience-1-17-26 \nSeed processing workshop: https://givebutter.com/immersive-mlk-experience-1-27-26
URL:https://shakerlakes.org/event/immersive-mlk-experience-equity-in-environmentalism/
LOCATION:Nature Center at Shaker Lakes\, 2600 South Park Blvd.\, Cleveland\, Ohio\, 44120
CATEGORIES:Environmental Exploration
ATTACH;FMTTYPE=image/png:https://shakerlakes.org/wp-content/uploads/2025/12/mlk-experience.png
ORGANIZER;CN="Nature Center at Shaker Lakes":MAILTO:naturecenter@shakerlakes.org
END:VEVENT
BEGIN:VEVENT
DTSTART;TZID=America/New_York:20260122T180000
DTEND;TZID=America/New_York:20260122T200000
DTSTAMP:20260424T154931
CREATED:20260107T192457Z
LAST-MODIFIED:20260107T210539Z
UID:10000748-1769104800-1769112000@shakerlakes.org
SUMMARY:Native Plant Bingo
DESCRIPTION:Native Plant Bingo\nThursday\, January 22 | 6PM\nJoin us for a fun night of bingo learning about native plants. Participants will play 8 rounds of bingo\, each with a native plant theme. Everyone will have the opportunity to win gift certificates for our annual Native Plant Sale in May. $12 for 8 rounds of bingo. Your ticket includes three (3) beer or mocktail samples from our beer sponsor Midnight Owl Brewing Company and Verbena Free Spirited. Registration required. $12 for non-members\, $10 for members. Members can use code WINTERMEM2026 for $2 off after inputting their member ID. Reach out to Cara Anderson at cara@shakerlakes.org if you need help finding your ID number. \nREGISTER: https://givebutter.com/native-plant-bingo-1-22-26
URL:https://shakerlakes.org/event/native-plant-bingo-2/
LOCATION:Nature Center at Shaker Lakes\, 2600 South Park Blvd.\, Cleveland\, Ohio\, 44120
CATEGORIES:Environmental Exploration
ATTACH;FMTTYPE=image/jpeg:https://shakerlakes.org/wp-content/uploads/2026/01/bingo-2-e1767813882811.jpg
ORGANIZER;CN="Nature Center at Shaker Lakes":MAILTO:naturecenter@shakerlakes.org
END:VEVENT
BEGIN:VEVENT
DTSTART;TZID=America/New_York:20260125T080000
DTEND;TZID=America/New_York:20260125T093000
DTSTAMP:20260424T154931
CREATED:20260105T182307Z
LAST-MODIFIED:20260105T182307Z
UID:10000744-1769328000-1769333400@shakerlakes.org
SUMMARY:Guided Bird Walks
DESCRIPTION:ONGOING | Select Sundays 8-9:30 AM | Nature Center \nSunday\, January 25* \nSunday\, February 1 and 8* \nJoin a guided walk through the Shaker Parklands looking and listening for birds. The first walk of each month begins on our ADA accessible boardwalk and moves to dirt trails throughout the Parklands. For all hikes\, meet in the Nature Center parking lot. Binoculars are available to borrow. Snow or shine\, though the walks will be canceled in the event of severe storms. \n*The second walk of each month is fully accessible and includes an ASL interpreter. \nFree. Donations welcome! Registration required. https://www.shakerlakes.org/birding-programs/ \nREGISTER: \nJanuary 25 | https://givebutter.com/bird-walk-1-25-26\nFebruary 1 | https://givebutter.com/bird-walk-2-1-26\nFebruary 8 | https://givebutter.com/bird-walk-2-8-26 
URL:https://shakerlakes.org/event/guided-bird-walks-9/
LOCATION:Nature Center at Shaker Lakes\, 2600 South Park Blvd.\, Cleveland\, Ohio\, 44120
CATEGORIES:Birding,Environmental Exploration
ATTACH;FMTTYPE=image/jpeg:https://shakerlakes.org/wp-content/uploads/2026/01/guided-bird-walk-hawk.jpg
ORGANIZER;CN="Nature Center at Shaker Lakes":MAILTO:naturecenter@shakerlakes.org
END:VEVENT
END:VCALENDAR