BEGIN:VCALENDAR
VERSION:2.0
PRODID:-//Nature Center at Shaker Lakes - ECPv6.15.20//NONSGML v1.0//EN
CALSCALE:GREGORIAN
METHOD:PUBLISH
X-ORIGINAL-URL:https://shakerlakes.org
X-WR-CALDESC:Events for Nature Center at Shaker Lakes
REFRESH-INTERVAL;VALUE=DURATION:PT1H
X-Robots-Tag:noindex
X-PUBLISHED-TTL:PT1H
BEGIN:VTIMEZONE
TZID:America/New_York
BEGIN:DAYLIGHT
TZOFFSETFROM:-0500
TZOFFSETTO:-0400
TZNAME:EDT
DTSTART:20250309T070000
END:DAYLIGHT
BEGIN:STANDARD
TZOFFSETFROM:-0400
TZOFFSETTO:-0500
TZNAME:EST
DTSTART:20251102T060000
END:STANDARD
BEGIN:DAYLIGHT
TZOFFSETFROM:-0500
TZOFFSETTO:-0400
TZNAME:EDT
DTSTART:20260308T070000
END:DAYLIGHT
BEGIN:STANDARD
TZOFFSETFROM:-0400
TZOFFSETTO:-0500
TZNAME:EST
DTSTART:20261101T060000
END:STANDARD
BEGIN:DAYLIGHT
TZOFFSETFROM:-0500
TZOFFSETTO:-0400
TZNAME:EDT
DTSTART:20270314T070000
END:DAYLIGHT
BEGIN:STANDARD
TZOFFSETFROM:-0400
TZOFFSETTO:-0500
TZNAME:EST
DTSTART:20271107T060000
END:STANDARD
END:VTIMEZONE
BEGIN:VEVENT
DTSTART;TZID=America/New_York:20260320T193000
DTEND;TZID=America/New_York:20260320T210000
DTSTAMP:20260424T144127
CREATED:20260219T181809Z
LAST-MODIFIED:20260219T181809Z
UID:10000771-1774035000-1774040400@shakerlakes.org
SUMMARY:Spring Equinox Moonlight Walk 
DESCRIPTION:Spring Equinox Moonlight Walk\nFriday\, March 20 | 7:30-9 PM    \nBring in the spring season by joining the Nature Center for a Spring Equinox Night Walk. Stroll through our trails under the moonlight on the first night of spring and learn about bats and other nocturnal animals\, spring plants\, and more. Joining us will be Cleveland Metroparks Naturalist Nicole Hindman\, who will share her passion for bats!  \nRegistration Required. Free. $5 donation suggested. All ages.  \nRegistration link: https://givebutter.com/spring-equinox-walk-3-20-26  
URL:https://shakerlakes.org/event/spring-equinox-moonlight-walk/
LOCATION:Nature Center at Shaker Lakes\, 2600 South Park Blvd.\, Cleveland\, Ohio\, 44120
CATEGORIES:Environmental Exploration
ATTACH;FMTTYPE=image/png:https://shakerlakes.org/wp-content/uploads/2026/02/PU1vDiUHzGNXCYnF7W99gYykoM9N8TlWeVQvTO4o.png
ORGANIZER;CN="Nature Center at Shaker Lakes":MAILTO:naturecenter@shakerlakes.org
END:VEVENT
END:VCALENDAR