BEGIN:VCALENDAR
VERSION:2.0
PRODID:-//Nature Center at Shaker Lakes - ECPv6.15.20//NONSGML v1.0//EN
CALSCALE:GREGORIAN
METHOD:PUBLISH
X-ORIGINAL-URL:https://shakerlakes.org
X-WR-CALDESC:Events for Nature Center at Shaker Lakes
REFRESH-INTERVAL;VALUE=DURATION:PT1H
X-Robots-Tag:noindex
X-PUBLISHED-TTL:PT1H
BEGIN:VTIMEZONE
TZID:America/New_York
BEGIN:DAYLIGHT
TZOFFSETFROM:-0500
TZOFFSETTO:-0400
TZNAME:EDT
DTSTART:20250309T070000
END:DAYLIGHT
BEGIN:STANDARD
TZOFFSETFROM:-0400
TZOFFSETTO:-0500
TZNAME:EST
DTSTART:20251102T060000
END:STANDARD
BEGIN:DAYLIGHT
TZOFFSETFROM:-0500
TZOFFSETTO:-0400
TZNAME:EDT
DTSTART:20260308T070000
END:DAYLIGHT
BEGIN:STANDARD
TZOFFSETFROM:-0400
TZOFFSETTO:-0500
TZNAME:EST
DTSTART:20261101T060000
END:STANDARD
BEGIN:DAYLIGHT
TZOFFSETFROM:-0500
TZOFFSETTO:-0400
TZNAME:EDT
DTSTART:20270314T070000
END:DAYLIGHT
BEGIN:STANDARD
TZOFFSETFROM:-0400
TZOFFSETTO:-0500
TZNAME:EST
DTSTART:20271107T060000
END:STANDARD
END:VTIMEZONE
BEGIN:VEVENT
DTSTART;TZID=America/New_York:20260321T100000
DTEND;TZID=America/New_York:20260321T140000
DTSTAMP:20260424T144127
CREATED:20260211T145412Z
LAST-MODIFIED:20260211T162253Z
UID:10000752-1774087200-1774101600@shakerlakes.org
SUMMARY:Swap Meet
DESCRIPTION:SHPL and NCSL Swap Meet  \nSaturday\, March 21\, | 10 AM-2 PM  \nThe Shaker Heights Public Library and the Nature Center at Shaker Lakes are teaming up to host a Community Swap Meet in the spirit of reducing waste\, building comradery and sharing with our neighbors. No money will be exchanged at the swap meet\, and participants can trade books\, records\, gardening tools\, small furniture and much more!* To learn more and sign up for a table\,* click this link https://forms.gle/UbrgKhCA8zoDmpMh6   \n  \n*No personal electronics\, vehicles\, or items not in good working order  \n*Tables are first come\, first serve. 
URL:https://shakerlakes.org/event/swap-meet/
LOCATION:Nature Center at Shaker Lakes\, 2600 South Park Blvd.\, Cleveland\, Ohio\, 44120
CATEGORIES:Environmental Exploration
ATTACH;FMTTYPE=image/png:https://shakerlakes.org/wp-content/uploads/2024/08/Community-Swap-2-e1724956303275.png
ORGANIZER;CN="Nature Center at Shaker Lakes":MAILTO:naturecenter@shakerlakes.org
END:VEVENT
END:VCALENDAR