BEGIN:VCALENDAR
VERSION:2.0
PRODID:-//Nature Center at Shaker Lakes - ECPv6.15.20//NONSGML v1.0//EN
CALSCALE:GREGORIAN
METHOD:PUBLISH
X-ORIGINAL-URL:https://shakerlakes.org
X-WR-CALDESC:Events for Nature Center at Shaker Lakes
REFRESH-INTERVAL;VALUE=DURATION:PT1H
X-Robots-Tag:noindex
X-PUBLISHED-TTL:PT1H
BEGIN:VTIMEZONE
TZID:America/New_York
BEGIN:DAYLIGHT
TZOFFSETFROM:-0500
TZOFFSETTO:-0400
TZNAME:EDT
DTSTART:20250309T070000
END:DAYLIGHT
BEGIN:STANDARD
TZOFFSETFROM:-0400
TZOFFSETTO:-0500
TZNAME:EST
DTSTART:20251102T060000
END:STANDARD
BEGIN:DAYLIGHT
TZOFFSETFROM:-0500
TZOFFSETTO:-0400
TZNAME:EDT
DTSTART:20260308T070000
END:DAYLIGHT
BEGIN:STANDARD
TZOFFSETFROM:-0400
TZOFFSETTO:-0500
TZNAME:EST
DTSTART:20261101T060000
END:STANDARD
BEGIN:DAYLIGHT
TZOFFSETFROM:-0500
TZOFFSETTO:-0400
TZNAME:EDT
DTSTART:20270314T070000
END:DAYLIGHT
BEGIN:STANDARD
TZOFFSETFROM:-0400
TZOFFSETTO:-0500
TZNAME:EST
DTSTART:20271107T060000
END:STANDARD
END:VTIMEZONE
BEGIN:VEVENT
DTSTART;TZID=America/New_York:20260422T100000
DTEND;TZID=America/New_York:20260422T150000
DTSTAMP:20260424T132851
CREATED:20260212T140634Z
LAST-MODIFIED:20260212T141014Z
UID:10000755-1776852000-1776870000@shakerlakes.org
SUMMARY:Earth Day Tree Giveaway
DESCRIPTION:Earth Day Tree Giveaway  \nWednesday\, April 22 | 10 AM-3 PM  \nThis Earth Day\, stop by and receive a free tree from the Nature Center! Participants can choose a red bud\, blackhaw viburnum\, or flowering dogwood.  
URL:https://shakerlakes.org/event/earth-day-tree-giveaway-3/
LOCATION:Nature Center at Shaker Lakes\, 2600 South Park Blvd.\, Cleveland\, Ohio\, 44120
CATEGORIES:Environmental Exploration
ATTACH;FMTTYPE=image/png:https://shakerlakes.org/wp-content/uploads/2026/02/Event-Web-Calendar-Image-earth-day-tree-sapling.png
ORGANIZER;CN="Nature Center at Shaker Lakes":MAILTO:naturecenter@shakerlakes.org
END:VEVENT
END:VCALENDAR