BEGIN:VCALENDAR
VERSION:2.0
PRODID:-//Nature Center at Shaker Lakes - ECPv6.15.20//NONSGML v1.0//EN
CALSCALE:GREGORIAN
METHOD:PUBLISH
X-ORIGINAL-URL:https://shakerlakes.org
X-WR-CALDESC:Events for Nature Center at Shaker Lakes
REFRESH-INTERVAL;VALUE=DURATION:PT1H
X-Robots-Tag:noindex
X-PUBLISHED-TTL:PT1H
BEGIN:VTIMEZONE
TZID:America/New_York
BEGIN:DAYLIGHT
TZOFFSETFROM:-0500
TZOFFSETTO:-0400
TZNAME:EDT
DTSTART:20250309T070000
END:DAYLIGHT
BEGIN:STANDARD
TZOFFSETFROM:-0400
TZOFFSETTO:-0500
TZNAME:EST
DTSTART:20251102T060000
END:STANDARD
BEGIN:DAYLIGHT
TZOFFSETFROM:-0500
TZOFFSETTO:-0400
TZNAME:EDT
DTSTART:20260308T070000
END:DAYLIGHT
BEGIN:STANDARD
TZOFFSETFROM:-0400
TZOFFSETTO:-0500
TZNAME:EST
DTSTART:20261101T060000
END:STANDARD
BEGIN:DAYLIGHT
TZOFFSETFROM:-0500
TZOFFSETTO:-0400
TZNAME:EDT
DTSTART:20270314T070000
END:DAYLIGHT
BEGIN:STANDARD
TZOFFSETFROM:-0400
TZOFFSETTO:-0500
TZNAME:EST
DTSTART:20271107T060000
END:STANDARD
END:VTIMEZONE
BEGIN:VEVENT
DTSTART;TZID=America/New_York:20260422T100000
DTEND;TZID=America/New_York:20260422T150000
DTSTAMP:20260424T182105
CREATED:20260212T140634Z
LAST-MODIFIED:20260212T141014Z
UID:10000755-1776852000-1776870000@shakerlakes.org
SUMMARY:Earth Day Tree Giveaway
DESCRIPTION:Earth Day Tree Giveaway  \nWednesday\, April 22 | 10 AM-3 PM  \nThis Earth Day\, stop by and receive a free tree from the Nature Center! Participants can choose a red bud\, blackhaw viburnum\, or flowering dogwood.  
URL:https://shakerlakes.org/event/earth-day-tree-giveaway-3/
LOCATION:Nature Center at Shaker Lakes\, 2600 South Park Blvd.\, Cleveland\, Ohio\, 44120
CATEGORIES:Environmental Exploration
ATTACH;FMTTYPE=image/png:https://shakerlakes.org/wp-content/uploads/2026/02/Event-Web-Calendar-Image-earth-day-tree-sapling.png
ORGANIZER;CN="Nature Center at Shaker Lakes":MAILTO:naturecenter@shakerlakes.org
END:VEVENT
BEGIN:VEVENT
DTSTART;TZID=America/New_York:20260424T080000
DTEND;TZID=America/New_York:20260427T170000
DTSTAMP:20260424T182105
CREATED:20260219T175631Z
LAST-MODIFIED:20260219T175921Z
UID:10000770-1777017600-1777309200@shakerlakes.org
SUMMARY:City Nature Challenge
DESCRIPTION:City Nature Challenge\nFriday\, April 24 – Monday\, April 27   \nThe City Nature Challenge (CNC) is an annual international event to collaboratively record as many wildlife observations as possible using iNaturalist. This global event is organized by the Natural History Museum of Los Angeles County and California Academy of Sciences. The Nature Center at Shaker Lakes is one of the regional organizers. We’ll be hosting a couple of drop-in sessions throughout the challenge. Come join us!  \nNo registration. Free. All ages. 
URL:https://shakerlakes.org/event/city-nature-challenge/
LOCATION:Nature Center at Shaker Lakes\, 2600 South Park Blvd.\, Cleveland\, Ohio\, 44120
CATEGORIES:Environmental Exploration
ATTACH;FMTTYPE=image/png:https://shakerlakes.org/wp-content/uploads/2022/02/Logos-City-Nature.png
ORGANIZER;CN="Nature Center at Shaker Lakes":MAILTO:naturecenter@shakerlakes.org
END:VEVENT
BEGIN:VEVENT
DTSTART;TZID=America/New_York:20260509T080000
DTEND;TZID=America/New_York:20260509T170000
DTSTAMP:20260424T182105
CREATED:20251028T150843Z
LAST-MODIFIED:20251028T151058Z
UID:10000729-1778313600-1778346000@shakerlakes.org
SUMMARY:Annual Plant Sale
DESCRIPTION:SAVE THE DATE! More information coming soon. Saturday\, May 9\, 2026
URL:https://shakerlakes.org/event/annual-plant-sale/
LOCATION:Nature Center at Shaker Lakes\, 2600 South Park Blvd.\, Cleveland\, Ohio\, 44120
CATEGORIES:Environmental Exploration
ATTACH;FMTTYPE=image/jpeg:https://shakerlakes.org/wp-content/uploads/2021/02/Untitled-design-98.jpg
ORGANIZER;CN="Nature Center at Shaker Lakes":MAILTO:naturecenter@shakerlakes.org
END:VEVENT
BEGIN:VEVENT
DTSTART;TZID=America/New_York:20260606T110000
DTEND;TZID=America/New_York:20260606T150000
DTSTAMP:20260424T182105
CREATED:20260422T191504Z
LAST-MODIFIED:20260422T191504Z
UID:10000777-1780743600-1780758000@shakerlakes.org
SUMMARY:Native Perennial Homegrown Sale
DESCRIPTION:NATIVE PERENNIAL HOMEGROWN SALE \n\n\n\n\nIN PERSON AT THE NATURE CENTER\nSaturday\, June 6 | 11AM–3PM\nMember preview: 10–11 AM \n\n\n\n\n\n\nA stand-alone event! Shop native plants and shrubs grown\, lovingly cared for\, and donated by local dedicated native gardeners. Over 100 varieties of native plants will be available including coneflower\, mountain mint\, blue-eyed grass\, iron weed\, honeysuckle\, spicebush\, swamp rose\, and MUCH MORE! Depending on supply\, annuals may be available from the day-of sale. \nPlant donations welcome! Contact timothykalan@sbcglobal.net to arrange.
URL:https://shakerlakes.org/event/native-perennial-homegrown-sale/
LOCATION:Nature Center at Shaker Lakes\, 2600 South Park Blvd.\, Cleveland\, Ohio\, 44120
CATEGORIES:Environmental Exploration
ATTACH;FMTTYPE=image/jpeg:https://shakerlakes.org/wp-content/uploads/2024/05/homegrown-2-2023.jpg
ORGANIZER;CN="Nature Center at Shaker Lakes":MAILTO:naturecenter@shakerlakes.org
END:VEVENT
END:VCALENDAR